BEGIN:VCALENDAR
VERSION:2.0
PRODID:-//Bozeman Dharma Center - ECPv6.15.20//NONSGML v1.0//EN
CALSCALE:GREGORIAN
METHOD:PUBLISH
X-ORIGINAL-URL:https://bozemandharmacenter.org
X-WR-CALDESC:Events for Bozeman Dharma Center
REFRESH-INTERVAL;VALUE=DURATION:PT1H
X-Robots-Tag:noindex
X-PUBLISHED-TTL:PT1H
BEGIN:VTIMEZONE
TZID:America/Denver
BEGIN:DAYLIGHT
TZOFFSETFROM:-0700
TZOFFSETTO:-0600
TZNAME:MDT
DTSTART:20240310T090000
END:DAYLIGHT
BEGIN:STANDARD
TZOFFSETFROM:-0600
TZOFFSETTO:-0700
TZNAME:MST
DTSTART:20241103T080000
END:STANDARD
BEGIN:DAYLIGHT
TZOFFSETFROM:-0700
TZOFFSETTO:-0600
TZNAME:MDT
DTSTART:20250309T090000
END:DAYLIGHT
BEGIN:STANDARD
TZOFFSETFROM:-0600
TZOFFSETTO:-0700
TZNAME:MST
DTSTART:20251102T080000
END:STANDARD
BEGIN:DAYLIGHT
TZOFFSETFROM:-0700
TZOFFSETTO:-0600
TZNAME:MDT
DTSTART:20260308T090000
END:DAYLIGHT
BEGIN:STANDARD
TZOFFSETFROM:-0600
TZOFFSETTO:-0700
TZNAME:MST
DTSTART:20261101T080000
END:STANDARD
END:VTIMEZONE
BEGIN:VEVENT
DTSTART;TZID=America/Denver:20251004T090000
DTEND;TZID=America/Denver:20251004T123000
DTSTAMP:20260422T215710
CREATED:20250911T204933Z
LAST-MODIFIED:20250911T204933Z
UID:10009049-1759568400-1759581000@bozemandharmacenter.org
SUMMARY:Fall Buddhism Basics
DESCRIPTION:with Steve Allison-Bunnell & Zack Cole\nSaturday\, October 4\n9 AM – 12:30 PM\nHybrid Offering\nExplore central teachings of our 2600 year old Buddhist tradition. We will learn about the five aggregates\, five remembrances\, five hindrances and the six paramitas. Great for those new to meditation and Buddhist practice; seasoned practitioners are warmly encouraged as well.
URL:https://bozemandharmacenter.org/event/fall-buddhism-basics/
LOCATION:3810 Valley Commons Dr\, #6
CATEGORIES:Non-denominational/Secular
ATTACH;FMTTYPE=image/jpeg:https://bozemandharmacenter.org/wp-content/uploads/2025/04/new-altar-Buddha-scaled.jpg
END:VEVENT
END:VCALENDAR