BEGIN:VCALENDAR
VERSION:2.0
PRODID:-//Bozeman Dharma Center - ECPv6.15.20//NONSGML v1.0//EN
CALSCALE:GREGORIAN
METHOD:PUBLISH
X-ORIGINAL-URL:https://bozemandharmacenter.org
X-WR-CALDESC:Events for Bozeman Dharma Center
REFRESH-INTERVAL;VALUE=DURATION:PT1H
X-Robots-Tag:noindex
X-PUBLISHED-TTL:PT1H
BEGIN:VTIMEZONE
TZID:America/Denver
BEGIN:DAYLIGHT
TZOFFSETFROM:-0700
TZOFFSETTO:-0600
TZNAME:MDT
DTSTART:20240310T090000
END:DAYLIGHT
BEGIN:STANDARD
TZOFFSETFROM:-0600
TZOFFSETTO:-0700
TZNAME:MST
DTSTART:20241103T080000
END:STANDARD
BEGIN:DAYLIGHT
TZOFFSETFROM:-0700
TZOFFSETTO:-0600
TZNAME:MDT
DTSTART:20250309T090000
END:DAYLIGHT
BEGIN:STANDARD
TZOFFSETFROM:-0600
TZOFFSETTO:-0700
TZNAME:MST
DTSTART:20251102T080000
END:STANDARD
BEGIN:DAYLIGHT
TZOFFSETFROM:-0700
TZOFFSETTO:-0600
TZNAME:MDT
DTSTART:20260308T090000
END:DAYLIGHT
BEGIN:STANDARD
TZOFFSETFROM:-0600
TZOFFSETTO:-0700
TZNAME:MST
DTSTART:20261101T080000
END:STANDARD
END:VTIMEZONE
BEGIN:VEVENT
DTSTART;TZID=America/Denver:20251018T100000
DTEND;TZID=America/Denver:20251018T120000
DTSTAMP:20260422T202322
CREATED:20251006T154522Z
LAST-MODIFIED:20251006T154608Z
UID:10009114-1760781600-1760788800@bozemandharmacenter.org
SUMMARY:Emotional Injury: Healing the Spirit through Qigong (RENTAL of BDC)
DESCRIPTION:Emotional Injury: Healing the Spirit through Qigong\nSaturday\, October 18\n10AM – 12PM\nHosted by Peng Her at BDC\nThe human experience involves some form of “emotional injury.” These “injuries” accumulate within the body overtime\, have a lasting impact on the body\, and they affect the “Spirit.” And when these “emotional injuries” are not discharged from the body\, they manifest themselves as physical symptoms or long standing chronic conditions that stack on top of each other—anxiety\, depression\, insomnia\, chronic fatigue\, brain fog\, chronic inflammation\, and many more advanced inflammatory and autoimmune disorders as we age. \nMany people talk about “healing the spirit”\, but what exactly do they mean by that? What does that even look like? How does it show up in the body? And how do we go about healing the spirit? \nIf you’re someone who is “doing all the right things”—eating well\, exercising\, meditating\, praying\, and connecting with your Creator—this talk is for you. In this lecture\, we’re going to explore a spiritual component to healing and how Qigong might shed some light on “healing the spirit.”
URL:https://bozemandharmacenter.org/event/emotional-injury-healing-the-spirit-through-qigong/
LOCATION:3810 Valley Commons Dr\, #6
END:VEVENT
END:VCALENDAR