BEGIN:VCALENDAR
VERSION:2.0
PRODID:-//Bozeman Dharma Center - ECPv6.15.20//NONSGML v1.0//EN
CALSCALE:GREGORIAN
METHOD:PUBLISH
X-ORIGINAL-URL:https://bozemandharmacenter.org
X-WR-CALDESC:Events for Bozeman Dharma Center
REFRESH-INTERVAL;VALUE=DURATION:PT1H
X-Robots-Tag:noindex
X-PUBLISHED-TTL:PT1H
BEGIN:VTIMEZONE
TZID:America/Denver
BEGIN:DAYLIGHT
TZOFFSETFROM:-0700
TZOFFSETTO:-0600
TZNAME:MDT
DTSTART:20240310T090000
END:DAYLIGHT
BEGIN:STANDARD
TZOFFSETFROM:-0600
TZOFFSETTO:-0700
TZNAME:MST
DTSTART:20241103T080000
END:STANDARD
BEGIN:DAYLIGHT
TZOFFSETFROM:-0700
TZOFFSETTO:-0600
TZNAME:MDT
DTSTART:20250309T090000
END:DAYLIGHT
BEGIN:STANDARD
TZOFFSETFROM:-0600
TZOFFSETTO:-0700
TZNAME:MST
DTSTART:20251102T080000
END:STANDARD
BEGIN:DAYLIGHT
TZOFFSETFROM:-0700
TZOFFSETTO:-0600
TZNAME:MDT
DTSTART:20260308T090000
END:DAYLIGHT
BEGIN:STANDARD
TZOFFSETFROM:-0600
TZOFFSETTO:-0700
TZNAME:MST
DTSTART:20261101T080000
END:STANDARD
END:VTIMEZONE
BEGIN:VEVENT
DTSTART;TZID=America/Denver:20251105T060000
DTEND;TZID=America/Denver:20251105T063000
DTSTAMP:20260422T185151
CREATED:20241218T003122Z
LAST-MODIFIED:20241218T003122Z
UID:10000330-1762322400-1762324200@bozemandharmacenter.org
SUMMARY:Morning Zazen: Online
DESCRIPTION:Morning Zazen\nONLINE with Bozeman Zen Group\nWeekdays\, 6 – 6:30 AM\n \nStart your morning practicing intention! The Bozeman Zen Group offers online\, morning zazen (silent\, sitting meditation) to all interested. You do not have to be a Zen practitioner to participate.  \n \nSchedule:\n6:00 AM: Robe chant\, Bell rings three times\nZazen for 25 minutes\, bell rings once\n6:25 AM Chant Pali refuges
URL:https://bozemandharmacenter.org/event/morning-zazen-online-2/2025-11-05/
LOCATION:Online Offering
CATEGORIES:Non-denominational/Secular
ATTACH;FMTTYPE=image/png:https://bozemandharmacenter.org/wp-content/uploads/2023/06/—Pngtree—zen-ink-buddha-monk-silhouette_5401399.png
END:VEVENT
BEGIN:VEVENT
DTSTART;TZID=America/Denver:20251105T120000
DTEND;TZID=America/Denver:20251105T130000
DTSTAMP:20260422T185151
CREATED:20241218T000458Z
LAST-MODIFIED:20260410T171534Z
UID:10005555-1762344000-1762347600@bozemandharmacenter.org
SUMMARY:Noon Sit
DESCRIPTION:Drop-In Meditation\nMondays-Fridays\n12:00 – 1:00 pm\n(except holidays)\n\nIn Person\n \nEveryone is welcome to attend. A bell-ringer will open and close the session with three bells and will ring one bell at 12:30. The meditation will be in silence\, but people are welcome to connect before and after each session. \nDrop-in meditations are offered free of any charge\, as a communal support to practice. Come and go (quietly) as you need to\, latecomers welcome.
URL:https://bozemandharmacenter.org/event/noon-sit-3/2025-11-05/
LOCATION:3810 Valley Commons Dr\, #6
CATEGORIES:Non-denominational/Secular
ATTACH;FMTTYPE=image/jpeg:https://bozemandharmacenter.org/wp-content/uploads/2019/08/Buddha-and-bell.jpg
END:VEVENT
BEGIN:VEVENT
DTSTART;TZID=America/Denver:20251105T173000
DTEND;TZID=America/Denver:20251105T190000
DTSTAMP:20260422T185151
CREATED:20251029T194648Z
LAST-MODIFIED:20251029T194705Z
UID:10009280-1762363800-1762369200@bozemandharmacenter.org
SUMMARY:Facing the Holiday Season with Tim Olmsted\, senior Tergar instructor
DESCRIPTION:Facing the Holiday Season: How to Thrive and not just Survive\nwith Senior Tergar Instructor\, Tim Olmsted\nWednesday\, November 5\n5:30 – 7 PM\nTergar Bozeman is happy to host Tim Olmsted over Zoom on Wednesday\, November 5. Tim will be joining via Zoom. \nTim began his Buddhist studies under the late Chögyam Trungpa Rinpoche. He currently leads an active community that follows Mingyur Rinpoche’s teachings and those of his family lineage in Steamboat Springs\, Colorado.
URL:https://bozemandharmacenter.org/event/facing-the-holiday-season-with-tim-olmsted-senior-tergar-instructor/
LOCATION:Hybrid Meeting
CATEGORIES:Tibetan Lineage
ATTACH;FMTTYPE=image/png:https://bozemandharmacenter.org/wp-content/uploads/2025/10/Screenshot-2025-09-22-at-12.06.17-PM.png
END:VEVENT
END:VCALENDAR