BEGIN:VCALENDAR
VERSION:2.0
PRODID:-//Bozeman Dharma Center - ECPv6.15.20//NONSGML v1.0//EN
CALSCALE:GREGORIAN
METHOD:PUBLISH
X-ORIGINAL-URL:https://bozemandharmacenter.org
X-WR-CALDESC:Events for Bozeman Dharma Center
REFRESH-INTERVAL;VALUE=DURATION:PT1H
X-Robots-Tag:noindex
X-PUBLISHED-TTL:PT1H
BEGIN:VTIMEZONE
TZID:America/Denver
BEGIN:DAYLIGHT
TZOFFSETFROM:-0700
TZOFFSETTO:-0600
TZNAME:MDT
DTSTART:20240310T090000
END:DAYLIGHT
BEGIN:STANDARD
TZOFFSETFROM:-0600
TZOFFSETTO:-0700
TZNAME:MST
DTSTART:20241103T080000
END:STANDARD
BEGIN:DAYLIGHT
TZOFFSETFROM:-0700
TZOFFSETTO:-0600
TZNAME:MDT
DTSTART:20250309T090000
END:DAYLIGHT
BEGIN:STANDARD
TZOFFSETFROM:-0600
TZOFFSETTO:-0700
TZNAME:MST
DTSTART:20251102T080000
END:STANDARD
BEGIN:DAYLIGHT
TZOFFSETFROM:-0700
TZOFFSETTO:-0600
TZNAME:MDT
DTSTART:20260308T090000
END:DAYLIGHT
BEGIN:STANDARD
TZOFFSETFROM:-0600
TZOFFSETTO:-0700
TZNAME:MST
DTSTART:20261101T080000
END:STANDARD
END:VTIMEZONE
BEGIN:VEVENT
DTSTART;TZID=America/Denver:20251107T060000
DTEND;TZID=America/Denver:20251107T063000
DTSTAMP:20260422T185100
CREATED:20241218T003122Z
LAST-MODIFIED:20241218T003122Z
UID:10000332-1762495200-1762497000@bozemandharmacenter.org
SUMMARY:Morning Zazen: Online
DESCRIPTION:Morning Zazen\nONLINE with Bozeman Zen Group\nWeekdays\, 6 – 6:30 AM\n \nStart your morning practicing intention! The Bozeman Zen Group offers online\, morning zazen (silent\, sitting meditation) to all interested. You do not have to be a Zen practitioner to participate.  \n \nSchedule:\n6:00 AM: Robe chant\, Bell rings three times\nZazen for 25 minutes\, bell rings once\n6:25 AM Chant Pali refuges
URL:https://bozemandharmacenter.org/event/morning-zazen-online-2/2025-11-07/
LOCATION:Online Offering
CATEGORIES:Non-denominational/Secular
ATTACH;FMTTYPE=image/png:https://bozemandharmacenter.org/wp-content/uploads/2023/06/—Pngtree—zen-ink-buddha-monk-silhouette_5401399.png
END:VEVENT
BEGIN:VEVENT
DTSTART;TZID=America/Denver:20251107T120000
DTEND;TZID=America/Denver:20251107T130000
DTSTAMP:20260422T185100
CREATED:20241218T000458Z
LAST-MODIFIED:20260410T171534Z
UID:10005557-1762516800-1762520400@bozemandharmacenter.org
SUMMARY:Noon Sit
DESCRIPTION:Drop-In Meditation\nMondays-Fridays\n12:00 – 1:00 pm\n(except holidays)\n\nIn Person\n \nEveryone is welcome to attend. A bell-ringer will open and close the session with three bells and will ring one bell at 12:30. The meditation will be in silence\, but people are welcome to connect before and after each session. \nDrop-in meditations are offered free of any charge\, as a communal support to practice. Come and go (quietly) as you need to\, latecomers welcome.
URL:https://bozemandharmacenter.org/event/noon-sit-3/2025-11-07/
LOCATION:3810 Valley Commons Dr\, #6
CATEGORIES:Non-denominational/Secular
ATTACH;FMTTYPE=image/jpeg:https://bozemandharmacenter.org/wp-content/uploads/2019/08/Buddha-and-bell.jpg
END:VEVENT
BEGIN:VEVENT
DTSTART;TZID=America/Denver:20251107T133000
DTEND;TZID=America/Denver:20251107T163000
DTSTAMP:20260422T185100
CREATED:20251002T212958Z
LAST-MODIFIED:20251105T163406Z
UID:10009113-1762522200-1762533000@bozemandharmacenter.org
SUMMARY:Changing Currents: A Mid-Season I Ching Workshop (RENTAL of BDC)
DESCRIPTION:Changing Currents: A Mid-Season I Ching Workshop\nFriday\, November 7\n1:30 PM (expected to last 2-3 hours)\nHosted by Liam Salsman at the BDC\nExplore the basics of the I Ching with Liam Salsman. Liam will identify different methods for consulting the I Ching\, such as coins\, yarrow stalks\, beads\, and his own method called I Ching in the Four Directions (ICFD). After exploring the basics\, we will end with a group consultation of the oracle and have time for reflection and dialog. \nPlease bring a notebook (either quad or unruled)\, water\, and a snack. Tea will also be served. In order for the workshop to occur\, at least 3-6 committed people must sign up. Please email Liam at namslasw@gmail.com if you are interested in attending.
URL:https://bozemandharmacenter.org/event/bdc-rental-changing-currents-a-mid-season-i-ching-workshop/
LOCATION:3810 Valley Commons Dr\, #6
END:VEVENT
END:VCALENDAR