BEGIN:VCALENDAR
VERSION:2.0
PRODID:-//Bozeman Dharma Center - ECPv6.15.20//NONSGML v1.0//EN
CALSCALE:GREGORIAN
METHOD:PUBLISH
X-WR-CALNAME:Bozeman Dharma Center
X-ORIGINAL-URL:https://bozemandharmacenter.org
X-WR-CALDESC:Events for Bozeman Dharma Center
REFRESH-INTERVAL;VALUE=DURATION:PT1H
X-Robots-Tag:noindex
X-PUBLISHED-TTL:PT1H
BEGIN:VTIMEZONE
TZID:America/Denver
BEGIN:DAYLIGHT
TZOFFSETFROM:-0700
TZOFFSETTO:-0600
TZNAME:MDT
DTSTART:20240310T090000
END:DAYLIGHT
BEGIN:STANDARD
TZOFFSETFROM:-0600
TZOFFSETTO:-0700
TZNAME:MST
DTSTART:20241103T080000
END:STANDARD
BEGIN:DAYLIGHT
TZOFFSETFROM:-0700
TZOFFSETTO:-0600
TZNAME:MDT
DTSTART:20250309T090000
END:DAYLIGHT
BEGIN:STANDARD
TZOFFSETFROM:-0600
TZOFFSETTO:-0700
TZNAME:MST
DTSTART:20251102T080000
END:STANDARD
BEGIN:DAYLIGHT
TZOFFSETFROM:-0700
TZOFFSETTO:-0600
TZNAME:MDT
DTSTART:20260308T090000
END:DAYLIGHT
BEGIN:STANDARD
TZOFFSETFROM:-0600
TZOFFSETTO:-0700
TZNAME:MST
DTSTART:20261101T080000
END:STANDARD
END:VTIMEZONE
BEGIN:VEVENT
DTSTART;TZID=America/Denver:20251206T080000
DTEND;TZID=America/Denver:20251206T120000
DTSTAMP:20260422T172033
CREATED:20251103T182304Z
LAST-MODIFIED:20251202T222013Z
UID:10009291-1765008000-1765022400@bozemandharmacenter.org
SUMMARY:Rohatsu Half-Day
DESCRIPTION:Rohatsu Half-Day\nSaturday\, December 6\n8AM – Noon\nDecember 8th is regarded as the day the historical Buddha achieved enlightenment. Zen practitioners commemorate this event with Rohatsu (Japanese for 8th day of the 12th month) and typically do extra practice around this time. This year\, the Bozeman Zen Group offers a half-day of practice including sitting and walking meditation with an oryoki (formal eating) breakfast. Some oryoki sets are available to borrow. All welcome; oryoki training provided. Please pre-register.
URL:https://bozemandharmacenter.org/event/rohatsu-half-day/
LOCATION:3810 Valley Commons Dr\, #6
CATEGORIES:Zen Lineage
ATTACH;FMTTYPE=image/jpeg:https://bozemandharmacenter.org/wp-content/uploads/2025/11/Zen-group-sit-photo-scaled.jpg
END:VEVENT
END:VCALENDAR