BEGIN:VCALENDAR
VERSION:2.0
PRODID:-//Bozeman Dharma Center - ECPv6.15.20//NONSGML v1.0//EN
CALSCALE:GREGORIAN
METHOD:PUBLISH
X-WR-CALNAME:Bozeman Dharma Center
X-ORIGINAL-URL:https://bozemandharmacenter.org
X-WR-CALDESC:Events for Bozeman Dharma Center
REFRESH-INTERVAL;VALUE=DURATION:PT1H
X-Robots-Tag:noindex
X-PUBLISHED-TTL:PT1H
BEGIN:VTIMEZONE
TZID:America/Denver
BEGIN:DAYLIGHT
TZOFFSETFROM:-0700
TZOFFSETTO:-0600
TZNAME:MDT
DTSTART:20250309T090000
END:DAYLIGHT
BEGIN:STANDARD
TZOFFSETFROM:-0600
TZOFFSETTO:-0700
TZNAME:MST
DTSTART:20251102T080000
END:STANDARD
BEGIN:DAYLIGHT
TZOFFSETFROM:-0700
TZOFFSETTO:-0600
TZNAME:MDT
DTSTART:20260308T090000
END:DAYLIGHT
BEGIN:STANDARD
TZOFFSETFROM:-0600
TZOFFSETTO:-0700
TZNAME:MST
DTSTART:20261101T080000
END:STANDARD
BEGIN:DAYLIGHT
TZOFFSETFROM:-0700
TZOFFSETTO:-0600
TZNAME:MDT
DTSTART:20270314T090000
END:DAYLIGHT
BEGIN:STANDARD
TZOFFSETFROM:-0600
TZOFFSETTO:-0700
TZNAME:MST
DTSTART:20271107T080000
END:STANDARD
END:VTIMEZONE
BEGIN:VEVENT
DTSTART;TZID=America/Denver:20260214T093000
DTEND;TZID=America/Denver:20260214T150000
DTSTAMP:20260422T141559
CREATED:20260113T224231Z
LAST-MODIFIED:20260113T224231Z
UID:10009364-1771061400-1771081200@bozemandharmacenter.org
SUMMARY:Parenting and Caregiving as the Path
DESCRIPTION:Parenting and Caregiving as the Path\nwith Cara Lai\nSaturday\, February 14\n9:30 AM – 3:00 PM MST\nAbout the Retreat\nThe number of parents  in the world is tremendous (everyone exists because of them!)\, and yet it’s easy to believe that parenthood\, or caregiving more broadly\, presents a barrier to deep practice. The lack of sleep\, the constant attention to others\, the endless list of agenda items\, and the obstacles to going on retreat all might lead to the belief that one has to choose between having a serious practice and becoming a parent or caregiver. And yet\, parenthood and caregiving are clearly abundant with opportunities for practice in metta\, generosity\, patience\, and letting go. This day of practice and connection will explore and celebrate the many ways that being a caregiver has tremendous potential to be its own path to awakening. We will share stories\, practice\, reflect\, grieve\, and laugh together; and we will remember the wisdom of parents walking the path before us\, to recognize the richness of our awakening as caregivers. \nIt is important to Cara and to the BDC that everyone who is interested has access to this retreat. If finding or paying for childcare becomes a barrier to taking this class\, please reach out to info@bozemandharmacenter.org. \nCara Lai will be online via Zoom. You are welcome to come to the BDC to participate in community or to practice in the comfort of your home. \n \nAbout the Teacher\n \nCara Lai is a meditation teacher\, artist\, and writer who helps people step out of the cycle of suffering and into the fullness of life. She spent most of her life trying to figure out how to be happy\, or at least avoid total misery\, which ultimately led her to spend the majority of her adulthood meditating. She’s explored what it means to be alive through many adventures in consciousness\, including a full year of solitary retreat\, living with chronic illness\, and having two whole humans come out through her vagina. \nShe once worked as a wilderness guide\, social worker\, and psychotherapist\, but traded it in for an all-out mindfulness rampage. She’s a working mom whose teaching is relatable\, authentic\, funny and sometimes crass\, and is accessible for many people. She is authorized to teach in the Theravada Buddhist Lineage through IMS/Spirit Rock\, and she teaches at centers across the country\, for the Happier app\, Ten Percent Happier\, Hatch\, and more. She lives with her husband\, toddler\, and new infant in Hinesburg\, Vermont\, ultimately hoping to get woke enough to bend spoons with her mind in front of large audiences. And to help everyone get free. \nLearn more about Cara and her offerings here.
URL:https://bozemandharmacenter.org/event/parenting-and-caregiving-as-the-path/
LOCATION:Hybrid Meeting
CATEGORIES:Insight/Vipassana Theravadan lineage
ATTACH;FMTTYPE=image/png:https://bozemandharmacenter.org/wp-content/uploads/2026/01/Cara-Lai-image.png
END:VEVENT
END:VCALENDAR