BEGIN:VCALENDAR
VERSION:2.0
PRODID:-//Bozeman Dharma Center - ECPv6.15.20//NONSGML v1.0//EN
CALSCALE:GREGORIAN
METHOD:PUBLISH
X-WR-CALNAME:Bozeman Dharma Center
X-ORIGINAL-URL:https://bozemandharmacenter.org
X-WR-CALDESC:Events for Bozeman Dharma Center
REFRESH-INTERVAL;VALUE=DURATION:PT1H
X-Robots-Tag:noindex
X-PUBLISHED-TTL:PT1H
BEGIN:VTIMEZONE
TZID:America/Denver
BEGIN:DAYLIGHT
TZOFFSETFROM:-0700
TZOFFSETTO:-0600
TZNAME:MDT
DTSTART:20250309T090000
END:DAYLIGHT
BEGIN:STANDARD
TZOFFSETFROM:-0600
TZOFFSETTO:-0700
TZNAME:MST
DTSTART:20251102T080000
END:STANDARD
BEGIN:DAYLIGHT
TZOFFSETFROM:-0700
TZOFFSETTO:-0600
TZNAME:MDT
DTSTART:20260308T090000
END:DAYLIGHT
BEGIN:STANDARD
TZOFFSETFROM:-0600
TZOFFSETTO:-0700
TZNAME:MST
DTSTART:20261101T080000
END:STANDARD
BEGIN:DAYLIGHT
TZOFFSETFROM:-0700
TZOFFSETTO:-0600
TZNAME:MDT
DTSTART:20270314T090000
END:DAYLIGHT
BEGIN:STANDARD
TZOFFSETFROM:-0600
TZOFFSETTO:-0700
TZNAME:MST
DTSTART:20271107T080000
END:STANDARD
END:VTIMEZONE
BEGIN:VEVENT
DTSTART;TZID=America/Denver:20260220T060000
DTEND;TZID=America/Denver:20260220T063000
DTSTAMP:20260422T141600
CREATED:20241218T003122Z
LAST-MODIFIED:20241218T003122Z
UID:10000407-1771567200-1771569000@bozemandharmacenter.org
SUMMARY:Morning Zazen: Online
DESCRIPTION:Morning Zazen\nONLINE with Bozeman Zen Group\nWeekdays\, 6 – 6:30 AM\n \nStart your morning practicing intention! The Bozeman Zen Group offers online\, morning zazen (silent\, sitting meditation) to all interested. You do not have to be a Zen practitioner to participate.  \n \nSchedule:\n6:00 AM: Robe chant\, Bell rings three times\nZazen for 25 minutes\, bell rings once\n6:25 AM Chant Pali refuges
URL:https://bozemandharmacenter.org/event/morning-zazen-online-2/2026-02-20/
LOCATION:Online Offering
CATEGORIES:Non-denominational/Secular
ATTACH;FMTTYPE=image/png:https://bozemandharmacenter.org/wp-content/uploads/2023/06/—Pngtree—zen-ink-buddha-monk-silhouette_5401399.png
END:VEVENT
BEGIN:VEVENT
DTSTART;TZID=America/Denver:20260220T120000
DTEND;TZID=America/Denver:20260220T130000
DTSTAMP:20260422T141600
CREATED:20241218T000458Z
LAST-MODIFIED:20260410T171534Z
UID:10005632-1771588800-1771592400@bozemandharmacenter.org
SUMMARY:Noon Sit
DESCRIPTION:Drop-In Meditation\nMondays-Fridays\n12:00 – 1:00 pm\n(except holidays)\n\nIn Person\n \nEveryone is welcome to attend. A bell-ringer will open and close the session with three bells and will ring one bell at 12:30. The meditation will be in silence\, but people are welcome to connect before and after each session. \nDrop-in meditations are offered free of any charge\, as a communal support to practice. Come and go (quietly) as you need to\, latecomers welcome.
URL:https://bozemandharmacenter.org/event/noon-sit-3/2026-02-20/
LOCATION:3810 Valley Commons Dr\, #6
CATEGORIES:Non-denominational/Secular
ATTACH;FMTTYPE=image/jpeg:https://bozemandharmacenter.org/wp-content/uploads/2019/08/Buddha-and-bell.jpg
END:VEVENT
BEGIN:VEVENT
DTSTART;TZID=America/Denver:20260220T180000
DTEND;TZID=America/Denver:20260220T190000
DTSTAMP:20260422T141600
CREATED:20260202T182241Z
LAST-MODIFIED:20260202T182511Z
UID:10009366-1771610400-1771614000@bozemandharmacenter.org
SUMMARY:Community Meeting
DESCRIPTION:The Bozeman Dharma Center’s annual community meeting is an opportunity for the board members and staff of the BDC to share the organization’s goals and get feedback from the community. Hear about actions taken based on last year’s community meeting feedback\, get updates about the finances and direction of the organization and connect with the current members of the Board of Directors. Come at 5:30 to socialize\, the meeting will start at 6 PM. 406-219-2140. Free! Open to all.
URL:https://bozemandharmacenter.org/event/community-meeting-2/
LOCATION:3810 Valley Commons Dr\, #6
CATEGORIES:Non-denominational/Secular
ATTACH;FMTTYPE=image/jpeg:https://bozemandharmacenter.org/wp-content/uploads/2026/02/Community-Meeting-Your-Story.jpg
END:VEVENT
END:VCALENDAR