BEGIN:VCALENDAR
VERSION:2.0
PRODID:-//Bozeman Dharma Center - ECPv6.15.20//NONSGML v1.0//EN
CALSCALE:GREGORIAN
METHOD:PUBLISH
X-ORIGINAL-URL:https://bozemandharmacenter.org
X-WR-CALDESC:Events for Bozeman Dharma Center
REFRESH-INTERVAL;VALUE=DURATION:PT1H
X-Robots-Tag:noindex
X-PUBLISHED-TTL:PT1H
BEGIN:VTIMEZONE
TZID:America/Denver
BEGIN:DAYLIGHT
TZOFFSETFROM:-0700
TZOFFSETTO:-0600
TZNAME:MDT
DTSTART:20250309T090000
END:DAYLIGHT
BEGIN:STANDARD
TZOFFSETFROM:-0600
TZOFFSETTO:-0700
TZNAME:MST
DTSTART:20251102T080000
END:STANDARD
BEGIN:DAYLIGHT
TZOFFSETFROM:-0700
TZOFFSETTO:-0600
TZNAME:MDT
DTSTART:20260308T090000
END:DAYLIGHT
BEGIN:STANDARD
TZOFFSETFROM:-0600
TZOFFSETTO:-0700
TZNAME:MST
DTSTART:20261101T080000
END:STANDARD
BEGIN:DAYLIGHT
TZOFFSETFROM:-0700
TZOFFSETTO:-0600
TZNAME:MDT
DTSTART:20270314T090000
END:DAYLIGHT
BEGIN:STANDARD
TZOFFSETFROM:-0600
TZOFFSETTO:-0700
TZNAME:MST
DTSTART:20271107T080000
END:STANDARD
END:VTIMEZONE
BEGIN:VEVENT
DTSTART;TZID=America/Denver:20260301T080000
DTEND;TZID=America/Denver:20260327T150000
DTSTAMP:20260422T124731
CREATED:20260227T213110Z
LAST-MODIFIED:20260227T213110Z
UID:10009370-1772352000-1774623600@bozemandharmacenter.org
SUMMARY:Refugee Welcome Kit Drive
DESCRIPTION:BDC is a collection site for Gallatin Refugee Connections Refugee Welcome Kit Drive. We have opted to collect items for their Kitchen Kits. Read more about the drive below (source: Gallatin Refugee Connections) \nThis March\, Gallatin Refugee Connections —in cooperation with Soft Landing Missoula\, Lutheran Family Services (LFS)\, and the International Rescue Committee (IRC)— is sponsoring a collection drive to help refugee families start new lives in Missoula and Billings. \nMost refugees arrive with next to nothing—sometimes just the clothes on their backs. These items will help get them started in their new lives and speed their integration into the community. Soft Landing\, LFS\, and IRC give them a start\, and we mean to help! We are collecting household goods to set up newly-arrived families. You can help! Team up with friends to donate an entire room kit\, or just donate an item or two. All donations are tax deductible. \nTax-deductible donations are welcome at: https://softlandingmissoula.org or help.rescue.org/donate/us-missoula-mt or gallatinrefugeeconnections.org. \nKitchen Items Needed\nYou can add a hand-written\, unsealed welcome note if you like! \nKitchen Kit #1 \nGently used\, clean items are acceptable for this kit. \n\nDishes (plates & bowls for 6)\nCups/glasses (6)\nTea cups/mugs (6)\nSmall paring knife\nLarge carving knife\nSilverware (6 sets)\nSilverware tray for drawer\n\nKitchen Kit #2 \nGently used\, clean items are acceptable for this kit. \n\nLarge skillet\nSmall pot & Large pot with lids\nBaking dish (9×13)\nBaking sheet\nWooden spoon\nSpatula\nDeep Mixing Spoon\nDish Drying Rack\nCan Opener\nTrivet\nDrying Towels\n\nKitchen Kit #3 \nPlease purchase NEW ITEMS for this kit (Gently used\, clean items are acceptable if the item is marked with a *) \n\nTrash can (put items in it)\nCutting board\nTea kettle (safe for stovetop)*\nMixing bowls (2-3)*\nPlastic tupperware (3-6 pcs)\nLiquid dish soap\nHand soap\nTrash bags (13 Gal)\nDrying Towels
URL:https://bozemandharmacenter.org/event/refugee-welcome-kit-drive/
LOCATION:3810 Valley Commons Dr\, #6
CATEGORIES:Non-denominational/Secular
END:VEVENT
BEGIN:VEVENT
DTSTART;TZID=America/Denver:20260317T060000
DTEND;TZID=America/Denver:20260317T063000
DTSTAMP:20260422T124731
CREATED:20241218T003122Z
LAST-MODIFIED:20241218T003122Z
UID:10000424-1773727200-1773729000@bozemandharmacenter.org
SUMMARY:Morning Zazen: Online
DESCRIPTION:Morning Zazen\nONLINE with Bozeman Zen Group\nWeekdays\, 6 – 6:30 AM\n \nStart your morning practicing intention! The Bozeman Zen Group offers online\, morning zazen (silent\, sitting meditation) to all interested. You do not have to be a Zen practitioner to participate.  \n \nSchedule:\n6:00 AM: Robe chant\, Bell rings three times\nZazen for 25 minutes\, bell rings once\n6:25 AM Chant Pali refuges
URL:https://bozemandharmacenter.org/event/morning-zazen-online-2/2026-03-17/
LOCATION:Online Offering
CATEGORIES:Non-denominational/Secular
ATTACH;FMTTYPE=image/png:https://bozemandharmacenter.org/wp-content/uploads/2023/06/—Pngtree—zen-ink-buddha-monk-silhouette_5401399.png
END:VEVENT
BEGIN:VEVENT
DTSTART;TZID=America/Denver:20260317T103000
DTEND;TZID=America/Denver:20260317T113000
DTSTAMP:20260422T124731
CREATED:20240808T192252Z
LAST-MODIFIED:20240808T195351Z
UID:10003928-1773743400-1773747000@bozemandharmacenter.org
SUMMARY:Kindhearted Awareness Meditation
DESCRIPTION:BIC Drop-In Meditation\nMeeting Our Lives with Kindhearted Awareness\nTuesdays\n10:30  – 11:30 AM\nLed by Suzanne Colón\n\nvia Zoom\n \nThis program shares the meditation practices that expand our capacity to meet life with an open\, stable heart-mind. Guided meditations will vary week to week\, providing an opportunity to try new practices and ways of working with life’s challenges. The four heart qualities known as the Brahma Viharas (Noble Abodes) will be cultivated with variations on ways to evoke and develop them: Kindness\, Compassion\, Joy and Equanimity. \nProgram Schedule: \n10:25 – Zoom Room Opens\n10:30 – 10:55 – Guided Meditation\nCollective Sharing of Delights or Difficulties\nShort Reading: Guidance in the Buddhist Practices of the Heart\nDiscussion until 11:30 \nFollowing the guided meditation\, we’ll give each other the opportunity to connect\, to be supported in times of difficulty\, and be witnessed in times of joy. The collective “Sharing of Delights or Difficulties” is formal practice of briefly naming a sorrow or difficulty\, a joy or delight\, and having the group witness and resonate with each other’s experience. \nNo prior meditation experience is needed to attend this program. Please make every effort to arrive by 10:30. \nThis program is offered freely\, which means this is a gift to the community\, and you are encouraged to pay the gift forward to help cover costs to the degree that you can. This is a program of the Bozeman Insight Community (BIC)\, offered to the entire Dharma Center community and general public.
URL:https://bozemandharmacenter.org/event/kindhearted-awareness-meditation/2026-03-17/
LOCATION:Online Offering
CATEGORIES:Insight/Vipassana Theravadan lineage
ATTACH;FMTTYPE=image/jpeg:https://bozemandharmacenter.org/wp-content/uploads/2013/12/Kindhearted-Awareness-Image.jpg
END:VEVENT
BEGIN:VEVENT
DTSTART;TZID=America/Denver:20260317T120000
DTEND;TZID=America/Denver:20260317T130000
DTSTAMP:20260422T124731
CREATED:20241218T000458Z
LAST-MODIFIED:20260410T171534Z
UID:10005649-1773748800-1773752400@bozemandharmacenter.org
SUMMARY:Noon Sit
DESCRIPTION:Drop-In Meditation\nMondays-Fridays\n12:00 – 1:00 pm\n(except holidays)\n\nIn Person\n \nEveryone is welcome to attend. A bell-ringer will open and close the session with three bells and will ring one bell at 12:30. The meditation will be in silence\, but people are welcome to connect before and after each session. \nDrop-in meditations are offered free of any charge\, as a communal support to practice. Come and go (quietly) as you need to\, latecomers welcome.
URL:https://bozemandharmacenter.org/event/noon-sit-3/2026-03-17/
LOCATION:3810 Valley Commons Dr\, #6
CATEGORIES:Non-denominational/Secular
ATTACH;FMTTYPE=image/jpeg:https://bozemandharmacenter.org/wp-content/uploads/2019/08/Buddha-and-bell.jpg
END:VEVENT
BEGIN:VEVENT
DTSTART;TZID=America/Denver:20260317T131500
DTEND;TZID=America/Denver:20260317T141500
DTSTAMP:20260422T124731
CREATED:20241219T164007Z
LAST-MODIFIED:20250923T194941Z
UID:10004190-1773753300-1773756900@bozemandharmacenter.org
SUMMARY:Pali Canon Study Group
DESCRIPTION:Pali Canon Study Group\nTuesdays 1:15-2:15 PM\nIn person and via Zoom\nAlthough Bozeman Dharma Center houses groups from multiple lineages\, one thing we all have in common is a reliance on the teachings of the Buddha. The Pali Canon is recognized as the earliest written record of the Buddha’s teachings\, given before the Buddhist community divided into different schools. This peer-led study group will begin by tackling readings from the Middle Length Discourses of the Buddha. You do not need to own the book to participate and do not need to commit to attending every week. Already having a practice and familiarity with the Dharma will be helpful. \nBasic Schedule\n1:15 Short sit\n1:30 Read portion of Pali Canon with discussion afterward\n2:15 Close
URL:https://bozemandharmacenter.org/event/pali-canon-study-group-2/2026-03-17/
LOCATION:Hybrid Meeting
CATEGORIES:Non-denominational/Secular
ATTACH;FMTTYPE=image/jpeg:https://bozemandharmacenter.org/wp-content/uploads/2023/07/Middle-Length-Discourses-Bozeman-Dharma-Center-scaled.jpg
END:VEVENT
BEGIN:VEVENT
DTSTART;TZID=America/Denver:20260317T183000
DTEND;TZID=America/Denver:20260317T194500
DTSTAMP:20260422T124731
CREATED:20260309T142726Z
LAST-MODIFIED:20260309T142727Z
UID:10004513-1773772200-1773776700@bozemandharmacenter.org
SUMMARY:MindSpace
DESCRIPTION:MindSpace\n A Meditation Group for adults in the Millennial+ generation\nTuesdays 6:30 – 7:45 pm\nIn Person Only\n \n MindSpace is an open community gathering of young adults 18-40 years of age. Through meditation we foster a clear mind\, compassionate heart\, and develop an intimacy with human experiences. We encourage and support each other in daily practice to embody mindfulness in everyday life. We come together with open hearts and curious\, non-judgmental minds to explore meditation practices and share experiences in bringing practice to daily life. Together we create a supportive community\, including everyone– from every background\, race\, gender identity\, orientation and ability. Please email info@bozemandharmacenter.org if childcare would be helpful for you to attend this group. \nMeeting Structure\n6:25: Gather 6:30: 30 minute meditation 7:00: Reading and Discussion 7:45: End We choose books that are easy to pick up at any point. Drop-ins are welcome! You do not need to have own the book to participate. We are currently reading Time to Stand Up: An Engaged Buddhist Manifesto for Our Earth by Thanissara. Examples of other books we’ve read: — No Self\, No Problem by Anam Thubten (Tibetan tradition) — Radical Acceptance by Tara Brach (Insight tradition) — Training in Compassion by Norman Fischer (Zen tradition) — The Myth of Freedom by Trungpa Rinpoche (Tibetan tradition)  \nCurrent Facilitators\n\nAndrew Cassidy’s practice began 15 years ago through a mindfulness-based stress reduction program. A data scientist and lover of the outdoors\, he values mindfulness and meditation as tools for managing stress\, anxiety\, and ADHD. Rooted in a spiritual and dharma-based perspective\, Andrew draws inspiration from the Buddha’s teachings\, emphasizing compassion\, mindfulness\, and wisdom in daily life. \n\n\n\nBrandon Temple is new to meditation and has been exploring mindfulness and self-inquiry over the past several years. His interest in dharma grew from an ongoing curiosity about human consciousness\, and he is interested in cultivating compassion and awareness in daily life as a young adult. \n\n\n\nHayden Pritchard started his practice during graduate school at MSU\, where he attended a mindfulness therapy group\, meditation club and mindfulness-based graduate mentorship program. He joined the Dharma Center in 2025\, and has since explored a variety of teachers and lineages. Hayden hopes to spread compassion and awareness among his peers and community.
URL:https://bozemandharmacenter.org/event/mindspace-2-2-2-2-2/2026-03-17/
LOCATION:3810 Valley Commons Dr\, #6
CATEGORIES:Non-denominational/Secular
ATTACH;FMTTYPE=image/jpeg:https://bozemandharmacenter.org/wp-content/uploads/2023/06/Bozeman-Dharma-Center-MindSpace-Meditation-scaled.jpg
END:VEVENT
END:VCALENDAR