BEGIN:VCALENDAR
VERSION:2.0
PRODID:-//Bozeman Dharma Center - ECPv6.15.20//NONSGML v1.0//EN
CALSCALE:GREGORIAN
METHOD:PUBLISH
X-WR-CALNAME:Bozeman Dharma Center
X-ORIGINAL-URL:https://bozemandharmacenter.org
X-WR-CALDESC:Events for Bozeman Dharma Center
REFRESH-INTERVAL;VALUE=DURATION:PT1H
X-Robots-Tag:noindex
X-PUBLISHED-TTL:PT1H
BEGIN:VTIMEZONE
TZID:America/Denver
BEGIN:DAYLIGHT
TZOFFSETFROM:-0700
TZOFFSETTO:-0600
TZNAME:MDT
DTSTART:20250309T090000
END:DAYLIGHT
BEGIN:STANDARD
TZOFFSETFROM:-0600
TZOFFSETTO:-0700
TZNAME:MST
DTSTART:20251102T080000
END:STANDARD
BEGIN:DAYLIGHT
TZOFFSETFROM:-0700
TZOFFSETTO:-0600
TZNAME:MDT
DTSTART:20260308T090000
END:DAYLIGHT
BEGIN:STANDARD
TZOFFSETFROM:-0600
TZOFFSETTO:-0700
TZNAME:MST
DTSTART:20261101T080000
END:STANDARD
BEGIN:DAYLIGHT
TZOFFSETFROM:-0700
TZOFFSETTO:-0600
TZNAME:MDT
DTSTART:20270314T090000
END:DAYLIGHT
BEGIN:STANDARD
TZOFFSETFROM:-0600
TZOFFSETTO:-0700
TZNAME:MST
DTSTART:20271107T080000
END:STANDARD
END:VTIMEZONE
BEGIN:VEVENT
DTSTART;TZID=America/Denver:20260328T090000
DTEND;TZID=America/Denver:20260328T123000
DTSTAMP:20260422T124520
CREATED:20260225T230232Z
LAST-MODIFIED:20260313T172026Z
UID:10009369-1774688400-1774701000@bozemandharmacenter.org
SUMMARY:Breaking the First Fetter: Seeing Through the Self-Illusion
DESCRIPTION:Breaking the First Fetter\nSeeing Through the Self-Illusion\nwith Brittany & James Nepenthe (Frank)\nSaturday\, March 28\n9 AM – 12:30 PM\nBrittany and James offer practical tools for directly investigating the sense of self in this half-day retreat. Through guided inquiry and experiential exercises\, participants will learn how to look closely at present-moment experience and examine whether a separate self can actually be found. The emphasis is on active investigation rather than philosophy\, supporting clear seeing in everyday life. \nOffered via Zoom only. We plan to record it and will send the link to registered participants. Please do not share the recording with others. \nWe need at least eight participants to make this retreat happen. \nTeacher Bios\n \nBrittany & James Nepenthe are dharma practitioners specializing in the intersection of relationship as spiritual path\, transcendent awakening\, and trauma healing. With years of extensive silent retreat experience\, they are committed to deep realization in the midst of ordinary life. As a married couple and expectant parents\, they are devoted to awakening as householders\, with no part of life excluded from the path. \nGratitude Practice\nThe registration fees for the retreat cover the basic costs of putting on the retreat. None of the fees go to the teachers who spend much time and energy preparing the talks. Please consider supporting James and Brittany with dana (financial generosity) so that they may continue offering the teachings in the future. Dana comes from the heart and is entirely optional. Any amount is supportive. \nCancellation Policy\nWe understand that life happens and you may not be able to attend the retreat. If you are able to let us know more than two weeks before the event starts\, we are happy to provide a full refund to you minus a $10 admin fee. Canceling less than two weeks before the event\, we can offer a 50% refund (no less than $10 withheld). If you have to cancel two days before the class\, we appreciate you letting us know but are unable to provide a refund. You have the option to donate your partial or entire registration fee to the BDC scholarship fund. This would be much appreciated and help us make sure no one is turned away from BDC retreat’s due to lack of funds.
URL:https://bozemandharmacenter.org/event/breaking-the-first-fetter-seeing-through-the-self-illusion/
LOCATION:Online Offering
CATEGORIES:Insight/Vipassana Theravadan lineage
END:VEVENT
END:VCALENDAR