BEGIN:VCALENDAR
VERSION:2.0
PRODID:-//Bozeman Dharma Center - ECPv6.15.20//NONSGML v1.0//EN
CALSCALE:GREGORIAN
METHOD:PUBLISH
X-WR-CALNAME:Bozeman Dharma Center
X-ORIGINAL-URL:https://bozemandharmacenter.org
X-WR-CALDESC:Events for Bozeman Dharma Center
REFRESH-INTERVAL;VALUE=DURATION:PT1H
X-Robots-Tag:noindex
X-PUBLISHED-TTL:PT1H
BEGIN:VTIMEZONE
TZID:America/Denver
BEGIN:DAYLIGHT
TZOFFSETFROM:-0700
TZOFFSETTO:-0600
TZNAME:MDT
DTSTART:20240310T090000
END:DAYLIGHT
BEGIN:STANDARD
TZOFFSETFROM:-0600
TZOFFSETTO:-0700
TZNAME:MST
DTSTART:20241103T080000
END:STANDARD
BEGIN:DAYLIGHT
TZOFFSETFROM:-0700
TZOFFSETTO:-0600
TZNAME:MDT
DTSTART:20250309T090000
END:DAYLIGHT
BEGIN:STANDARD
TZOFFSETFROM:-0600
TZOFFSETTO:-0700
TZNAME:MST
DTSTART:20251102T080000
END:STANDARD
BEGIN:DAYLIGHT
TZOFFSETFROM:-0700
TZOFFSETTO:-0600
TZNAME:MDT
DTSTART:20260308T090000
END:DAYLIGHT
BEGIN:STANDARD
TZOFFSETFROM:-0600
TZOFFSETTO:-0700
TZNAME:MST
DTSTART:20261101T080000
END:STANDARD
END:VTIMEZONE
BEGIN:VEVENT
DTSTART;TZID=America/Denver:20250201T093000
DTEND;TZID=America/Denver:20250201T123000
DTSTAMP:20260424T052924
CREATED:20250115T170037Z
LAST-MODIFIED:20250115T171229Z
UID:10006865-1738402200-1738413000@bozemandharmacenter.org
SUMMARY:The Way of Meditative Warriorship
DESCRIPTION:The uncertainty of these times calls for a commitment to live the truth and love this world yearns for. During this half-day retreat\, we will explore the foundations of living a heart-centered and wakeful life. By emphasizing stillness and relaxation\, we will support the natural and fearless qualities of the heart that characterize meditative warriorship. This period will involve sitting\, walking\, and relational practices that deepen a felt sense of belonging and inspiration for the journey ahead. \nJames Nepenthe Frank is a meditation teacher and somatic healing practitioner. He began practice as a young child in the Plum Village Tradition with Thich Nhat Hanh and began formally sitting in the Western Insight tradition at the age of 15. While dedicating years of his life to silent retreat\, he serves a commitment to live this path in everyday life. He began teaching at the invitation of his teacher\, Rodney Smith. He lives in Lincoln\, Vermont.
URL:https://bozemandharmacenter.org/event/the-way-of-meditative-warriorship/
LOCATION:3810 Valley Commons Dr\, #6
CATEGORIES:Insight/Vipassana Theravadan lineage
ATTACH;FMTTYPE=image/jpeg:https://bozemandharmacenter.org/wp-content/uploads/2025/01/james-frank.jpg
END:VEVENT
BEGIN:VEVENT
DTSTART;TZID=America/Denver:20250204T103000
DTEND;TZID=America/Denver:20250204T113000
DTSTAMP:20260424T052924
CREATED:20240808T192252Z
LAST-MODIFIED:20240808T195351Z
UID:10003870-1738665000-1738668600@bozemandharmacenter.org
SUMMARY:Kindhearted Awareness Meditation
DESCRIPTION:BIC Drop-In Meditation\nMeeting Our Lives with Kindhearted Awareness\nTuesdays\n10:30  – 11:30 AM\nLed by Suzanne Colón\n\nvia Zoom\n \nThis program shares the meditation practices that expand our capacity to meet life with an open\, stable heart-mind. Guided meditations will vary week to week\, providing an opportunity to try new practices and ways of working with life’s challenges. The four heart qualities known as the Brahma Viharas (Noble Abodes) will be cultivated with variations on ways to evoke and develop them: Kindness\, Compassion\, Joy and Equanimity. \nProgram Schedule: \n10:25 – Zoom Room Opens\n10:30 – 10:55 – Guided Meditation\nCollective Sharing of Delights or Difficulties\nShort Reading: Guidance in the Buddhist Practices of the Heart\nDiscussion until 11:30 \nFollowing the guided meditation\, we’ll give each other the opportunity to connect\, to be supported in times of difficulty\, and be witnessed in times of joy. The collective “Sharing of Delights or Difficulties” is formal practice of briefly naming a sorrow or difficulty\, a joy or delight\, and having the group witness and resonate with each other’s experience. \nNo prior meditation experience is needed to attend this program. Please make every effort to arrive by 10:30. \nThis program is offered freely\, which means this is a gift to the community\, and you are encouraged to pay the gift forward to help cover costs to the degree that you can. This is a program of the Bozeman Insight Community (BIC)\, offered to the entire Dharma Center community and general public.
URL:https://bozemandharmacenter.org/event/kindhearted-awareness-meditation/2025-02-04/
LOCATION:Online Offering
CATEGORIES:Insight/Vipassana Theravadan lineage
ATTACH;FMTTYPE=image/jpeg:https://bozemandharmacenter.org/wp-content/uploads/2013/12/Kindhearted-Awareness-Image.jpg
END:VEVENT
BEGIN:VEVENT
DTSTART;TZID=America/Denver:20250206T190000
DTEND;TZID=America/Denver:20250206T203000
DTSTAMP:20260424T052924
CREATED:20240828T200145Z
LAST-MODIFIED:20241126T180619Z
UID:10002642-1738868400-1738873800@bozemandharmacenter.org
SUMMARY:Bozeman Insight Community
DESCRIPTION:Thursdays\, 7:00 – 8:30 pm\nIn person and via Zoom \nBozeman Insight Community (BIC) is a welcoming community that offers the Buddha’s priceless teachings on wisdom and compassion to all those who seek them. Centered on a commitment to personal practice  we support the development and expression of our inherent wisdom  and compassion for the benefit of all beings. \nThe program usually begins with a short teaching to introduce the practice and provide some instruction. Then there is a lightly-guided 30-minute meditation\, followed by tea\, Q&A\, and discussion. We open and close the evening with short chants\, which are provided and completely optional. \nAll are warmly welcome to drop in and join us. No prior experience necessary. If you’d like to talk to one of the leaders prior to attending for the first time\, please email us and we’ll connect. We look forward to meeting you and welcoming you to our sangha. \nWhen in person\, service dogs\, lap babies and school-age children are welcome. There are places in the room and nearby where kids can hang out or do homework. Parents can relax about any disturbance this may cause – our community is not fussy about meditation rooms being super silent (ambient noise is a chance to practice with the conditions and cultivate equanimity). We’d rather have you with us than strive for “perfect” conditions (which don’t exist). \nBIC Leadership\nSangha Leader – Suzanne Colón\nCouncil Member – Rose Toth\nCouncil Member – Mary Corelli\nCouncil Member – Sarah Beirut \nFor leader and council member bios\, more information about this group\, and to see program updates\, please click this link to go to the BIC’s website.
URL:https://bozemandharmacenter.org/event/bozeman-insight-community-2/2025-02-06/
LOCATION:Hybrid Meeting
CATEGORIES:Insight/Vipassana Theravadan lineage
ATTACH;FMTTYPE=image/png:https://bozemandharmacenter.org/wp-content/uploads/2024/08/new-logo.png
END:VEVENT
BEGIN:VEVENT
DTSTART;TZID=America/Denver:20250211T103000
DTEND;TZID=America/Denver:20250211T113000
DTSTAMP:20260424T052924
CREATED:20240808T192252Z
LAST-MODIFIED:20240808T195351Z
UID:10003871-1739269800-1739273400@bozemandharmacenter.org
SUMMARY:Kindhearted Awareness Meditation
DESCRIPTION:BIC Drop-In Meditation\nMeeting Our Lives with Kindhearted Awareness\nTuesdays\n10:30  – 11:30 AM\nLed by Suzanne Colón\n\nvia Zoom\n \nThis program shares the meditation practices that expand our capacity to meet life with an open\, stable heart-mind. Guided meditations will vary week to week\, providing an opportunity to try new practices and ways of working with life’s challenges. The four heart qualities known as the Brahma Viharas (Noble Abodes) will be cultivated with variations on ways to evoke and develop them: Kindness\, Compassion\, Joy and Equanimity. \nProgram Schedule: \n10:25 – Zoom Room Opens\n10:30 – 10:55 – Guided Meditation\nCollective Sharing of Delights or Difficulties\nShort Reading: Guidance in the Buddhist Practices of the Heart\nDiscussion until 11:30 \nFollowing the guided meditation\, we’ll give each other the opportunity to connect\, to be supported in times of difficulty\, and be witnessed in times of joy. The collective “Sharing of Delights or Difficulties” is formal practice of briefly naming a sorrow or difficulty\, a joy or delight\, and having the group witness and resonate with each other’s experience. \nNo prior meditation experience is needed to attend this program. Please make every effort to arrive by 10:30. \nThis program is offered freely\, which means this is a gift to the community\, and you are encouraged to pay the gift forward to help cover costs to the degree that you can. This is a program of the Bozeman Insight Community (BIC)\, offered to the entire Dharma Center community and general public.
URL:https://bozemandharmacenter.org/event/kindhearted-awareness-meditation/2025-02-11/
LOCATION:Online Offering
CATEGORIES:Insight/Vipassana Theravadan lineage
ATTACH;FMTTYPE=image/jpeg:https://bozemandharmacenter.org/wp-content/uploads/2013/12/Kindhearted-Awareness-Image.jpg
END:VEVENT
BEGIN:VEVENT
DTSTART;TZID=America/Denver:20250213T190000
DTEND;TZID=America/Denver:20250213T203000
DTSTAMP:20260424T052924
CREATED:20240828T200145Z
LAST-MODIFIED:20241126T180619Z
UID:10002643-1739473200-1739478600@bozemandharmacenter.org
SUMMARY:Bozeman Insight Community
DESCRIPTION:Thursdays\, 7:00 – 8:30 pm\nIn person and via Zoom \nBozeman Insight Community (BIC) is a welcoming community that offers the Buddha’s priceless teachings on wisdom and compassion to all those who seek them. Centered on a commitment to personal practice  we support the development and expression of our inherent wisdom  and compassion for the benefit of all beings. \nThe program usually begins with a short teaching to introduce the practice and provide some instruction. Then there is a lightly-guided 30-minute meditation\, followed by tea\, Q&A\, and discussion. We open and close the evening with short chants\, which are provided and completely optional. \nAll are warmly welcome to drop in and join us. No prior experience necessary. If you’d like to talk to one of the leaders prior to attending for the first time\, please email us and we’ll connect. We look forward to meeting you and welcoming you to our sangha. \nWhen in person\, service dogs\, lap babies and school-age children are welcome. There are places in the room and nearby where kids can hang out or do homework. Parents can relax about any disturbance this may cause – our community is not fussy about meditation rooms being super silent (ambient noise is a chance to practice with the conditions and cultivate equanimity). We’d rather have you with us than strive for “perfect” conditions (which don’t exist). \nBIC Leadership\nSangha Leader – Suzanne Colón\nCouncil Member – Rose Toth\nCouncil Member – Mary Corelli\nCouncil Member – Sarah Beirut \nFor leader and council member bios\, more information about this group\, and to see program updates\, please click this link to go to the BIC’s website.
URL:https://bozemandharmacenter.org/event/bozeman-insight-community-2/2025-02-13/
LOCATION:Hybrid Meeting
CATEGORIES:Insight/Vipassana Theravadan lineage
ATTACH;FMTTYPE=image/png:https://bozemandharmacenter.org/wp-content/uploads/2024/08/new-logo.png
END:VEVENT
BEGIN:VEVENT
DTSTART;TZID=America/Denver:20250218T103000
DTEND;TZID=America/Denver:20250218T113000
DTSTAMP:20260424T052924
CREATED:20240808T192252Z
LAST-MODIFIED:20240808T195351Z
UID:10003872-1739874600-1739878200@bozemandharmacenter.org
SUMMARY:Kindhearted Awareness Meditation
DESCRIPTION:BIC Drop-In Meditation\nMeeting Our Lives with Kindhearted Awareness\nTuesdays\n10:30  – 11:30 AM\nLed by Suzanne Colón\n\nvia Zoom\n \nThis program shares the meditation practices that expand our capacity to meet life with an open\, stable heart-mind. Guided meditations will vary week to week\, providing an opportunity to try new practices and ways of working with life’s challenges. The four heart qualities known as the Brahma Viharas (Noble Abodes) will be cultivated with variations on ways to evoke and develop them: Kindness\, Compassion\, Joy and Equanimity. \nProgram Schedule: \n10:25 – Zoom Room Opens\n10:30 – 10:55 – Guided Meditation\nCollective Sharing of Delights or Difficulties\nShort Reading: Guidance in the Buddhist Practices of the Heart\nDiscussion until 11:30 \nFollowing the guided meditation\, we’ll give each other the opportunity to connect\, to be supported in times of difficulty\, and be witnessed in times of joy. The collective “Sharing of Delights or Difficulties” is formal practice of briefly naming a sorrow or difficulty\, a joy or delight\, and having the group witness and resonate with each other’s experience. \nNo prior meditation experience is needed to attend this program. Please make every effort to arrive by 10:30. \nThis program is offered freely\, which means this is a gift to the community\, and you are encouraged to pay the gift forward to help cover costs to the degree that you can. This is a program of the Bozeman Insight Community (BIC)\, offered to the entire Dharma Center community and general public.
URL:https://bozemandharmacenter.org/event/kindhearted-awareness-meditation/2025-02-18/
LOCATION:Online Offering
CATEGORIES:Insight/Vipassana Theravadan lineage
ATTACH;FMTTYPE=image/jpeg:https://bozemandharmacenter.org/wp-content/uploads/2013/12/Kindhearted-Awareness-Image.jpg
END:VEVENT
BEGIN:VEVENT
DTSTART;TZID=America/Denver:20250220T190000
DTEND;TZID=America/Denver:20250220T203000
DTSTAMP:20260424T052924
CREATED:20250220T220730Z
LAST-MODIFIED:20250220T220730Z
UID:10007124-1740078000-1740083400@bozemandharmacenter.org
SUMMARY:Developing Spiritual Faculties with Chaim Bryski
DESCRIPTION:Four Thursdays\n7-8:30 PM\n\nFebruary 20\nMarch 6\nMarch 13\nMarch 20\nBozeman Insight Community invites you to this four-part series with guest teacher\, Chaim Bryski. Chaim will discuss nurturing virtue and developing the spiritual qualities and inner resources for navigating uncertainty with a steady heart. All welcome! No registration necessary.
URL:https://bozemandharmacenter.org/event/developing-spiritual-faculties-with-chaim-bryski/
LOCATION:3810 Valley Commons Dr\, #6
CATEGORIES:Insight/Vipassana Theravadan lineage
ATTACH;FMTTYPE=image/jpeg:https://bozemandharmacenter.org/wp-content/uploads/2025/02/Chaim_Bryski.jpg
END:VEVENT
BEGIN:VEVENT
DTSTART;TZID=America/Denver:20250225T103000
DTEND;TZID=America/Denver:20250225T113000
DTSTAMP:20260424T052924
CREATED:20240808T192252Z
LAST-MODIFIED:20240808T195351Z
UID:10003873-1740479400-1740483000@bozemandharmacenter.org
SUMMARY:Kindhearted Awareness Meditation
DESCRIPTION:BIC Drop-In Meditation\nMeeting Our Lives with Kindhearted Awareness\nTuesdays\n10:30  – 11:30 AM\nLed by Suzanne Colón\n\nvia Zoom\n \nThis program shares the meditation practices that expand our capacity to meet life with an open\, stable heart-mind. Guided meditations will vary week to week\, providing an opportunity to try new practices and ways of working with life’s challenges. The four heart qualities known as the Brahma Viharas (Noble Abodes) will be cultivated with variations on ways to evoke and develop them: Kindness\, Compassion\, Joy and Equanimity. \nProgram Schedule: \n10:25 – Zoom Room Opens\n10:30 – 10:55 – Guided Meditation\nCollective Sharing of Delights or Difficulties\nShort Reading: Guidance in the Buddhist Practices of the Heart\nDiscussion until 11:30 \nFollowing the guided meditation\, we’ll give each other the opportunity to connect\, to be supported in times of difficulty\, and be witnessed in times of joy. The collective “Sharing of Delights or Difficulties” is formal practice of briefly naming a sorrow or difficulty\, a joy or delight\, and having the group witness and resonate with each other’s experience. \nNo prior meditation experience is needed to attend this program. Please make every effort to arrive by 10:30. \nThis program is offered freely\, which means this is a gift to the community\, and you are encouraged to pay the gift forward to help cover costs to the degree that you can. This is a program of the Bozeman Insight Community (BIC)\, offered to the entire Dharma Center community and general public.
URL:https://bozemandharmacenter.org/event/kindhearted-awareness-meditation/2025-02-25/
LOCATION:Online Offering
CATEGORIES:Insight/Vipassana Theravadan lineage
ATTACH;FMTTYPE=image/jpeg:https://bozemandharmacenter.org/wp-content/uploads/2013/12/Kindhearted-Awareness-Image.jpg
END:VEVENT
BEGIN:VEVENT
DTSTART;TZID=America/Denver:20250227T190000
DTEND;TZID=America/Denver:20250227T203000
DTSTAMP:20260424T052924
CREATED:20250226T165055Z
LAST-MODIFIED:20250226T165056Z
UID:10007144-1740682800-1740688200@bozemandharmacenter.org
SUMMARY:Bozeman Insight Community
DESCRIPTION:Thursdays\, 7:00 – 8:30 pm\nIn person and via Zoom \nBozeman Insight Community (BIC) is a welcoming community that offers the Buddha’s priceless teachings on wisdom and compassion to all those who seek them. Centered on a commitment to personal practice  we support the development and expression of our inherent wisdom  and compassion for the benefit of all beings. \nThe program usually begins with a short teaching to introduce the practice and provide some instruction. Then there is a lightly-guided 30-minute meditation\, followed by tea\, Q&A\, and discussion. We open and close the evening with short chants\, which are provided and completely optional. \nAll are warmly welcome to drop in and join us. No prior experience necessary. If you’d like to talk to one of the leaders prior to attending for the first time\, please email us and we’ll connect. We look forward to meeting you and welcoming you to our sangha. \nWhen in person\, service dogs\, lap babies and school-age children are welcome. There are places in the room and nearby where kids can hang out or do homework. Parents can relax about any disturbance this may cause – our community is not fussy about meditation rooms being super silent (ambient noise is a chance to practice with the conditions and cultivate equanimity). We’d rather have you with us than strive for “perfect” conditions (which don’t exist). \nBIC Leadership\nSangha Leader – Suzanne Colón\nCouncil Member – Rose Toth\nCouncil Member – Mary Corelli\nCouncil Member – Sarah Beirut \nFor leader and council member bios\, more information about this group\, and to see program updates\, please click this link to go to the BIC’s website.
URL:https://bozemandharmacenter.org/event/bozeman-insight-community-2-2-2/
LOCATION:Hybrid Meeting
CATEGORIES:Insight/Vipassana Theravadan lineage
ATTACH;FMTTYPE=image/png:https://bozemandharmacenter.org/wp-content/uploads/2024/08/new-logo.png
END:VEVENT
END:VCALENDAR