BEGIN:VCALENDAR
VERSION:2.0
PRODID:-//Bozeman Dharma Center - ECPv6.15.20//NONSGML v1.0//EN
CALSCALE:GREGORIAN
METHOD:PUBLISH
X-WR-CALNAME:Bozeman Dharma Center
X-ORIGINAL-URL:https://bozemandharmacenter.org
X-WR-CALDESC:Events for Bozeman Dharma Center
REFRESH-INTERVAL;VALUE=DURATION:PT1H
X-Robots-Tag:noindex
X-PUBLISHED-TTL:PT1H
BEGIN:VTIMEZONE
TZID:America/Denver
BEGIN:DAYLIGHT
TZOFFSETFROM:-0700
TZOFFSETTO:-0600
TZNAME:MDT
DTSTART:20240310T090000
END:DAYLIGHT
BEGIN:STANDARD
TZOFFSETFROM:-0600
TZOFFSETTO:-0700
TZNAME:MST
DTSTART:20241103T080000
END:STANDARD
BEGIN:DAYLIGHT
TZOFFSETFROM:-0700
TZOFFSETTO:-0600
TZNAME:MDT
DTSTART:20250309T090000
END:DAYLIGHT
BEGIN:STANDARD
TZOFFSETFROM:-0600
TZOFFSETTO:-0700
TZNAME:MST
DTSTART:20251102T080000
END:STANDARD
BEGIN:DAYLIGHT
TZOFFSETFROM:-0700
TZOFFSETTO:-0600
TZNAME:MDT
DTSTART:20260308T090000
END:DAYLIGHT
BEGIN:STANDARD
TZOFFSETFROM:-0600
TZOFFSETTO:-0700
TZNAME:MST
DTSTART:20261101T080000
END:STANDARD
END:VTIMEZONE
BEGIN:VEVENT
DTSTART;TZID=America/Denver:20250710T183000
DTEND;TZID=America/Denver:20250710T200000
DTSTAMP:20260424T142927
CREATED:20250618T155220Z
LAST-MODIFIED:20250618T155220Z
UID:10008439-1752172200-1752177600@bozemandharmacenter.org
SUMMARY:BIC Special Guest: Floyd Fantelli!
DESCRIPTION:Buddhist Practice for Living and Dying: What Does It Mean?\nwith Floyd Fantelli\nThursday\, July 10\n6:30-8 PM\nONLINE ONLY\n  \nIn this personal and reflective talk\, Floyd explores the question at the heart of both life and death: What does it mean? Drawing on the Buddha’s teachings on impermanence\, presence\, and compassionate care\, he shares the intimate journey of accompanying his beloved wife through her final days. Grounded in Buddhist practice\, Floyd reflects on how mindfulness\, the Five Daily Recollections (Remembrances)\, and the cultivation of loving awareness supported him in facing death—not as an end\, but as part of a sacred continuum. This talk invites us to look closely at how our practice prepares us not only to die with grace\, but to live with meaning\, love\, and clarity.
URL:https://bozemandharmacenter.org/event/bic-special-guest-floyd-fantelli-2/
LOCATION:Online Offering
CATEGORIES:Insight/Vipassana Theravadan lineage
ATTACH;FMTTYPE=image/png:https://bozemandharmacenter.org/wp-content/uploads/2014/08/floyd-300x200.png
END:VEVENT
END:VCALENDAR