BEGIN:VCALENDAR
VERSION:2.0
PRODID:-//Bozeman Dharma Center - ECPv6.15.20//NONSGML v1.0//EN
CALSCALE:GREGORIAN
METHOD:PUBLISH
X-ORIGINAL-URL:https://bozemandharmacenter.org
X-WR-CALDESC:Events for Bozeman Dharma Center
REFRESH-INTERVAL;VALUE=DURATION:PT1H
X-Robots-Tag:noindex
X-PUBLISHED-TTL:PT1H
BEGIN:VTIMEZONE
TZID:America/Denver
BEGIN:DAYLIGHT
TZOFFSETFROM:-0700
TZOFFSETTO:-0600
TZNAME:MDT
DTSTART:20240310T090000
END:DAYLIGHT
BEGIN:STANDARD
TZOFFSETFROM:-0600
TZOFFSETTO:-0700
TZNAME:MST
DTSTART:20241103T080000
END:STANDARD
BEGIN:DAYLIGHT
TZOFFSETFROM:-0700
TZOFFSETTO:-0600
TZNAME:MDT
DTSTART:20250309T090000
END:DAYLIGHT
BEGIN:STANDARD
TZOFFSETFROM:-0600
TZOFFSETTO:-0700
TZNAME:MST
DTSTART:20251102T080000
END:STANDARD
BEGIN:DAYLIGHT
TZOFFSETFROM:-0700
TZOFFSETTO:-0600
TZNAME:MDT
DTSTART:20260308T090000
END:DAYLIGHT
BEGIN:STANDARD
TZOFFSETFROM:-0600
TZOFFSETTO:-0700
TZNAME:MST
DTSTART:20261101T080000
END:STANDARD
END:VTIMEZONE
BEGIN:VEVENT
DTSTART;TZID=America/Denver:20250731T183000
DTEND;TZID=America/Denver:20250731T200000
DTSTAMP:20260424T142249
CREATED:20250702T221321Z
LAST-MODIFIED:20250702T222052Z
UID:10008706-1753986600-1753992000@bozemandharmacenter.org
SUMMARY:BIC Special Guest: Julie Wester
DESCRIPTION:Recognizing the Sacred Feminine\nwith Julie Wester\nThursday\, July 31\n6:30-8 PM\nIn Person & via Zoom\nEvery person has a unique balance of feminine and masculine energy and wisdom. These sacred energies live in each of us in personal\, human and quite ordinary ways— whatever our gender identity may be. \n\nBut we live in a world in which the energy and the wisdom of the feminine are not equally seen\, valued or reflected. We are all impacted by this imbalance\, as is absolutely everything in our world. We can see it in the dishonoring of the earth and the dishonoring of women. We can see it in the separation of earth and spirit\, of body and mind\, and in our disconnection from the natural world and from each other. \nWhen we begin to consciously recognize and honor the sacred feminine energies in ourselves and in each other\, we become part of the healing and rebalancing of our world. \n\nBozeman Insight Community has invited Julie Wester to speak to us about her book\, Recognizing the Sacred Feminine: Stories and Meditations for the Rebalancing of Our World\, available from Country Bookshelf on Main Street in Bozeman. Also available in paperback and ebook from Amazon.com \nAbout the Teacher\n \nJulie Wester is a Spirit Rock Meditation Center Teacher Emerita. For 30 years\, beginning in 1985\, she supported women to remember and trust their innate wisdom in a world that does not equally reflect feminine wisdom and sacredness. Her teachers are now the vast space and open skies of Montana.
URL:https://bozemandharmacenter.org/event/bic-special-guest-julie-wester/
LOCATION:Hybrid Meeting
CATEGORIES:Insight/Vipassana Theravadan lineage
ATTACH;FMTTYPE=image/jpeg:https://bozemandharmacenter.org/wp-content/uploads/2023/11/KwanYin_Bozeman_Dharma_Center-scaled.jpg
END:VEVENT
END:VCALENDAR